BEGIN:VCALENDAR
VERSION:2.0
CALSCALE:GREGORIAN
PRODID:-//Diputació de Barcelona//DibaCMS//EN
BEGIN:VEVENT
UID:15170
DTSTAMP:20260424T133530
DTSTART:20220821T120000
DTEND:20220821T120000
SUMMARY:39è Tastavins
LOCATION:Av. de Pau Casals 7 08755 Castellbisbal
METHOD:PUBLISH
X-WR-CALNAME:comunicacio@castellbisbal.cat
X-WR-TIMEZONE:Europe/Madrid
DESCRIPTION:Casal Cultural i Recreatiu

URI:https://www.castellbisbal.cat/actualitat/agenda/39e-tastavins.html
CLASS:PUBLIC
END:VEVENT
END:VCALENDAR
