BEGIN:VCALENDAR
VERSION:2.0
CALSCALE:GREGORIAN
PRODID:-//Diputació de Barcelona//DibaCMS//EN
BEGIN:VEVENT
UID:15176
DTSTAMP:20260423T151422
DTSTART:20220821T210000
DTEND:20220821T210000
SUMMARY:Sopar de Fi de Festa Major
LOCATION:L'Envelat del parc de Folch i Torres 
METHOD:PUBLISH
X-WR-CALNAME:comunicacio@castellbisbal.cat
X-WR-TIMEZONE:Europe/Madrid
DESCRIPTION:L'Envelat del parc de Folch i Torres

URI:https://www.castellbisbal.cat/actualitat/agenda/15176-sopar-de-fi-de-festa-major.html
CLASS:PUBLIC
END:VEVENT
END:VCALENDAR
