BEGIN:VCALENDAR
VERSION:2.0
CALSCALE:GREGORIAN
PRODID:-//Diputació de Barcelona//DibaCMS//EN
BEGIN:VEVENT
UID:15204
DTSTAMP:20260423T115801
DTSTART:20220901T170000
DTEND:20220901T170000
SUMMARY:Festes d'estiu Can Campanyà 2022: Burro dels Jocs d'aigua
LOCATION:
METHOD:PUBLISH
X-WR-CALNAME:comunicacio@castellbisbal.cat
X-WR-TIMEZONE:Europe/Madrid
DESCRIPTION:A les 17:00 h, a la urbanització Can Campanyà

URI:https://www.castellbisbal.cat/actualitat/agenda/festes-destiu-can-campanya-2022-burro-dels-jocs-daigua.html
CLASS:PUBLIC
END:VEVENT
END:VCALENDAR
