BEGIN:VCALENDAR
VERSION:2.0
CALSCALE:GREGORIAN
PRODID:-//Diputació de Barcelona//DibaCMS//EN
BEGIN:VEVENT
UID:15205
DTSTAMP:20260423T210510
DTSTART:20220901T180000
DTEND:20220901T180000
SUMMARY:Festa Major Can Santeugini 2022: Partit de futbol femení
LOCATION:
METHOD:PUBLISH
X-WR-CALNAME:comunicacio@castellbisbal.cat
X-WR-TIMEZONE:Europe/Madrid
DESCRIPTION:De 18:00 a 18:45 h, a la urbanització Can Santeugini

URI:https://www.castellbisbal.cat/actualitat/agenda/festa-major-can-santeugini-2022-partit-de-futbol-femeni.html
CLASS:PUBLIC
END:VEVENT
END:VCALENDAR
