BEGIN:VCALENDAR
VERSION:2.0
CALSCALE:GREGORIAN
PRODID:-//Diputació de Barcelona//DibaCMS//EN
BEGIN:VEVENT
UID:15206
DTSTAMP:20260424T193941
DTSTART:20220917T110000
DTEND:20220917T130000
SUMMARY:Festa Major Costablanca 2022: Festa infantil i juvenil
LOCATION:
METHOD:PUBLISH
X-WR-CALNAME:comunicacio@castellbisbal.cat
X-WR-TIMEZONE:Europe/Madrid
DESCRIPTION:A les 11 h, a la urbanització Costablanca

URI:https://www.castellbisbal.cat/actualitat/agenda/festa-major-costablanca-2022-festa-infantil-i-juvenil.html
CLASS:PUBLIC
END:VEVENT
END:VCALENDAR
