BEGIN:VCALENDAR
VERSION:2.0
CALSCALE:GREGORIAN
PRODID:-//Diputació de Barcelona//DibaCMS//EN
BEGIN:VEVENT
UID:15209
DTSTAMP:20260423T231405
DTSTART:20220905T190000
DTEND:20220905T190000
SUMMARY:Jornada solidària per col·laborar amb el banc d'aliments de Castellbisbal
LOCATION:C. Agricultura, s/n 08755 Castellbisbal
METHOD:PUBLISH
X-WR-CALNAME:comunicacio@castellbisbal.cat
X-WR-TIMEZONE:Europe/Madrid
DESCRIPTION:A les 19.00 h, al Pavelló de L'Illa Esportiva

URI:https://www.castellbisbal.cat/actualitat/agenda/jornada-solidaria-per-collaborar-amb-el-banc-daliments-de-castellbisbal.html
CLASS:PUBLIC
END:VEVENT
END:VCALENDAR
