BEGIN:VCALENDAR
VERSION:2.0
CALSCALE:GREGORIAN
PRODID:-//Diputació de Barcelona//DibaCMS//EN
BEGIN:VEVENT
UID:15210
DTSTAMP:20260424T065745
DTSTART:20220901T184500
DTEND:20220901T184500
SUMMARY:Festa Major Can Santeugini 2022: Partit de futbol infantil
LOCATION:
METHOD:PUBLISH
X-WR-CALNAME:comunicacio@castellbisbal.cat
X-WR-TIMEZONE:Europe/Madrid
DESCRIPTION:De 18:45 a 19:30 h, a la urbanització Can Santeugini

URI:https://www.castellbisbal.cat/actualitat/agenda/festa-major-can-santeugini-2022-partit-de-futbol-infantil.html
CLASS:PUBLIC
END:VEVENT
END:VCALENDAR
