BEGIN:VCALENDAR
VERSION:2.0
CALSCALE:GREGORIAN
PRODID:-//Diputació de Barcelona//DibaCMS//EN
BEGIN:VEVENT
UID:15211
DTSTAMP:20260423T222315
DTSTART:20220901T183000
DTEND:20220901T183000
SUMMARY:Festes d'estiu Can Campanyà 2022: Festa de colors Holly
LOCATION:
METHOD:PUBLISH
X-WR-CALNAME:comunicacio@castellbisbal.cat
X-WR-TIMEZONE:Europe/Madrid
DESCRIPTION:A les 18:30 h, a la urbanització Can Campanyà

URI:https://www.castellbisbal.cat/actualitat/agenda/festes-destiu-can-campanya-2022-festa-de-colors-holly.html
CLASS:PUBLIC
END:VEVENT
END:VCALENDAR
