BEGIN:VCALENDAR
VERSION:2.0
CALSCALE:GREGORIAN
PRODID:-//Diputació de Barcelona//DibaCMS//EN
BEGIN:VEVENT
UID:15212
DTSTAMP:20260423T165455
DTSTART:20220901T190000
DTEND:20220901T190000
SUMMARY:Festes d'estiu Can Campanyà 2022: Xocolatada
LOCATION:
METHOD:PUBLISH
X-WR-CALNAME:comunicacio@castellbisbal.cat
X-WR-TIMEZONE:Europe/Madrid
DESCRIPTION:A les 19:00 h, a la Pista esportiva, c/ Lluís Millet

URI:https://www.castellbisbal.cat/actualitat/agenda/festes-destiu-can-campanya-2022-xocolatada.html
CLASS:PUBLIC
END:VEVENT
END:VCALENDAR
