BEGIN:VCALENDAR
VERSION:2.0
CALSCALE:GREGORIAN
PRODID:-//Diputació de Barcelona//DibaCMS//EN
BEGIN:VEVENT
UID:15213
DTSTAMP:20260423T102226
DTSTART:20220901T193000
DTEND:20220901T193000
SUMMARY:Festa Major Can Santeugini 2022: Torneig de futbol masculí
LOCATION:
METHOD:PUBLISH
X-WR-CALNAME:comunicacio@castellbisbal.cat
X-WR-TIMEZONE:Europe/Madrid
DESCRIPTION:De 19:30 a 21:30 h, a la urbanització Can Santeugini

URI:https://www.castellbisbal.cat/actualitat/agenda/festa-major-can-santeugini-2022-torneig-de-futbol-masculi.html
CLASS:PUBLIC
END:VEVENT
END:VCALENDAR
