BEGIN:VCALENDAR
VERSION:2.0
CALSCALE:GREGORIAN
PRODID:-//Diputació de Barcelona//DibaCMS//EN
BEGIN:VEVENT
UID:15214
DTSTAMP:20260424T065228
DTSTART:20220901T200000
DTEND:20220901T200000
SUMMARY:Festes d'estiu Can Campanyà 2022: "Pelea de gallos"
LOCATION:
METHOD:PUBLISH
X-WR-CALNAME:comunicacio@castellbisbal.cat
X-WR-TIMEZONE:Europe/Madrid
DESCRIPTION:A les 20:00 h, a la urbanització Can Campanyà

URI:https://www.castellbisbal.cat/actualitat/agenda/festes-destiu-can-campanya-2022-pelea-de-gallos.html
CLASS:PUBLIC
END:VEVENT
END:VCALENDAR
