BEGIN:VCALENDAR
VERSION:2.0
CALSCALE:GREGORIAN
PRODID:-//Diputació de Barcelona//DibaCMS//EN
BEGIN:VEVENT
UID:15217
DTSTAMP:20260424T003137
DTSTART:20220902T170000
DTEND:20220902T170000
SUMMARY:Festa Major Can Santeugini 2022: "Chupinazo" d'inici de festes
LOCATION:
METHOD:PUBLISH
X-WR-CALNAME:comunicacio@castellbisbal.cat
X-WR-TIMEZONE:Europe/Madrid
DESCRIPTION:De 17:00 a 17:10 h, a la urbanització Can Santeugini

URI:https://www.castellbisbal.cat/actualitat/agenda/festa-major-can-santeugini-2022-chupinazo-dinici-de-festes.html
CLASS:PUBLIC
END:VEVENT
END:VCALENDAR
