BEGIN:VCALENDAR
VERSION:2.0
CALSCALE:GREGORIAN
PRODID:-//Diputació de Barcelona//DibaCMS//EN
BEGIN:VEVENT
UID:15219
DTSTAMP:20260423T071240
DTSTART:20220902T180000
DTEND:20220902T180000
SUMMARY:Festa Major Can Santeugini 2022: "Pintacares" pels més petits
LOCATION:
METHOD:PUBLISH
X-WR-CALNAME:comunicacio@castellbisbal.cat
X-WR-TIMEZONE:Europe/Madrid
DESCRIPTION:De 18:00 a 20:00 h, a la urbanització Can Santeugini

URI:https://www.castellbisbal.cat/actualitat/agenda/festa-major-can-santeugini-2022-pintacares-pels-mes-petits.html
CLASS:PUBLIC
END:VEVENT
END:VCALENDAR
