BEGIN:VCALENDAR
VERSION:2.0
CALSCALE:GREGORIAN
PRODID:-//Diputació de Barcelona//DibaCMS//EN
BEGIN:VEVENT
UID:15221
DTSTAMP:20260424T121711
DTSTART:20220902T190000
DTEND:20220902T190000
SUMMARY:Festa Major Can Santeugini 2022: Masterclass Perfect Dance
LOCATION:
METHOD:PUBLISH
X-WR-CALNAME:comunicacio@castellbisbal.cat
X-WR-TIMEZONE:Europe/Madrid
DESCRIPTION:De 19:00 a 20:00 h, a la urbanització Can Santeugini

URI:https://www.castellbisbal.cat/actualitat/agenda/festa-major-can-santeugini-2022-masterclass-perfect-dance.html
CLASS:PUBLIC
END:VEVENT
END:VCALENDAR
