BEGIN:VCALENDAR
VERSION:2.0
CALSCALE:GREGORIAN
PRODID:-//Diputació de Barcelona//DibaCMS//EN
BEGIN:VEVENT
UID:15222
DTSTAMP:20260423T072322
DTSTART:20220902T221500
DTEND:20220902T221500
SUMMARY:Festa Major Can Santeugini 2022: Pregó d'inici de festes
LOCATION:
METHOD:PUBLISH
X-WR-CALNAME:comunicacio@castellbisbal.cat
X-WR-TIMEZONE:Europe/Madrid
DESCRIPTION:De 22:15 a 22:30 h, a la urbanització Can Santeugini

URI:https://www.castellbisbal.cat/actualitat/agenda/festa-major-can-santeugini-2022-prego-dinici-de-festes.html
CLASS:PUBLIC
END:VEVENT
END:VCALENDAR
