BEGIN:VCALENDAR
VERSION:2.0
CALSCALE:GREGORIAN
PRODID:-//Diputació de Barcelona//DibaCMS//EN
BEGIN:VEVENT
UID:15223
DTSTAMP:20260424T115714
DTSTART:20220902T223000
DTEND:20220902T223000
SUMMARY:Festa Major Can Santeugini 2022: Actuació en directe del Grup Doble Cara
LOCATION:
METHOD:PUBLISH
X-WR-CALNAME:comunicacio@castellbisbal.cat
X-WR-TIMEZONE:Europe/Madrid
DESCRIPTION:De 22:30 a 02:00 h, a la urbanització Can Santeugini

URI:https://www.castellbisbal.cat/actualitat/agenda/festa-major-can-santeugini-2022-actuacio-en-directe-del-grup-doble-cara.html
CLASS:PUBLIC
END:VEVENT
END:VCALENDAR
