BEGIN:VCALENDAR
VERSION:2.0
CALSCALE:GREGORIAN
PRODID:-//Diputació de Barcelona//DibaCMS//EN
BEGIN:VEVENT
UID:15226
DTSTAMP:20260424T052856
DTSTART:20220903T170000
DTEND:20220903T170000
SUMMARY:Festa Major Can Santeugini 2022: "Una de pirates" pels infants
LOCATION:
METHOD:PUBLISH
X-WR-CALNAME:comunicacio@castellbisbal.cat
X-WR-TIMEZONE:Europe/Madrid
DESCRIPTION:De 17.00 a 18:30 h, a la urbanització Can Santeugini

URI:https://www.castellbisbal.cat/actualitat/agenda/festa-major-can-santeugini-2022-una-de-pirates-pels-infants.html
CLASS:PUBLIC
END:VEVENT
END:VCALENDAR
