BEGIN:VCALENDAR
VERSION:2.0
CALSCALE:GREGORIAN
PRODID:-//Diputació de Barcelona//DibaCMS//EN
BEGIN:VEVENT
UID:15227
DTSTAMP:20260424T071100
DTSTART:20220903T190000
DTEND:20220903T190000
SUMMARY:Festa Major Can Santeugini 2022: Festa Holly amb Batukada i música "Bollywood"
LOCATION:
METHOD:PUBLISH
X-WR-CALNAME:comunicacio@castellbisbal.cat
X-WR-TIMEZONE:Europe/Madrid
DESCRIPTION:De 19:00 a 20:30 h, a la urbanització Can Santeugini

URI:https://www.castellbisbal.cat/actualitat/agenda/festa-major-can-santeugini-2022-festa-holly-amb-batukada-i-musica-bollywood.html
CLASS:PUBLIC
END:VEVENT
END:VCALENDAR
