BEGIN:VCALENDAR
VERSION:2.0
CALSCALE:GREGORIAN
PRODID:-//Diputació de Barcelona//DibaCMS//EN
BEGIN:VEVENT
UID:15228
DTSTAMP:20260424T135952
DTSTART:20220903T220000
DTEND:20220903T220000
SUMMARY:Festa Major Can Santeugini 2022: Demostracions de ball
LOCATION:
METHOD:PUBLISH
X-WR-CALNAME:comunicacio@castellbisbal.cat
X-WR-TIMEZONE:Europe/Madrid
DESCRIPTION:De 22.00 a 22:30 h, a la urbanització Can Santeugini

URI:https://www.castellbisbal.cat/actualitat/agenda/festa-major-can-santeugini-2022-demostracions-de-ball.html
CLASS:PUBLIC
END:VEVENT
END:VCALENDAR
