BEGIN:VCALENDAR
VERSION:2.0
CALSCALE:GREGORIAN
PRODID:-//Diputació de Barcelona//DibaCMS//EN
BEGIN:VEVENT
UID:15230
DTSTAMP:20260424T201944
DTSTART:20220904T020000
DTEND:20220904T020000
SUMMARY:Festa Major Can Santeugini 2022: Música d'ahir i d'avui
LOCATION:
METHOD:PUBLISH
X-WR-CALNAME:comunicacio@castellbisbal.cat
X-WR-TIMEZONE:Europe/Madrid
DESCRIPTION:De 02:00 a 03:00 h, a la urbanització Can Santeugini

URI:https://www.castellbisbal.cat/actualitat/agenda/festa-major-can-santeugini-2022-musica-dahir-i-davui.html
CLASS:PUBLIC
END:VEVENT
END:VCALENDAR
