BEGIN:VCALENDAR
VERSION:2.0
CALSCALE:GREGORIAN
PRODID:-//Diputació de Barcelona//DibaCMS//EN
BEGIN:VEVENT
UID:15231
DTSTAMP:20260424T115459
DTSTART:20220904T110000
DTEND:20220904T110000
SUMMARY:Festa Major Can Santeugini 2022: Inflables aquàtics i tobogan de 75 metres de doble carril
LOCATION:
METHOD:PUBLISH
X-WR-CALNAME:comunicacio@castellbisbal.cat
X-WR-TIMEZONE:Europe/Madrid
DESCRIPTION:De 11:00 a 14:00 h, a la urbanització Can Santeugini

URI:https://www.castellbisbal.cat/actualitat/agenda/festa-major-can-santeugini-2022-inflables-aquatics-i-tobogan-de-75-metres-de-doble-carril.html
CLASS:PUBLIC
END:VEVENT
END:VCALENDAR
