BEGIN:VCALENDAR
VERSION:2.0
CALSCALE:GREGORIAN
PRODID:-//Diputació de Barcelona//DibaCMS//EN
BEGIN:VEVENT
UID:15232
DTSTAMP:20260425T011638
DTSTART:20220904T144500
DTEND:20220904T144500
SUMMARY:Festa Major Can Santeugini 2022: "Chupinazo" de final de festes
LOCATION:
METHOD:PUBLISH
X-WR-CALNAME:comunicacio@castellbisbal.cat
X-WR-TIMEZONE:Europe/Madrid
DESCRIPTION:De 14:45 a 14:55 h, a la urbanització Can Santeugini

URI:https://www.castellbisbal.cat/actualitat/agenda/festa-major-can-santeugini-2022-chupinazo-de-final-de-festes.html
CLASS:PUBLIC
END:VEVENT
END:VCALENDAR
