BEGIN:VCALENDAR
VERSION:2.0
CALSCALE:GREGORIAN
PRODID:-//Diputació de Barcelona//DibaCMS//EN
BEGIN:VEVENT
UID:15233
DTSTAMP:20260423T204230
DTSTART:20220902T210000
DTEND:20220902T210000
SUMMARY:Festes d'estiu Can Campanyà 2022: Sopar a la fresca
LOCATION:
METHOD:PUBLISH
X-WR-CALNAME:comunicacio@castellbisbal.cat
X-WR-TIMEZONE:Europe/Madrid
DESCRIPTION:A les 21:00 h, a la urbanització Can Campanyà

URI:https://www.castellbisbal.cat/actualitat/agenda/festes-destiu-can-campanya-2022-sopar-a-la-fresca.html
CLASS:PUBLIC
END:VEVENT
END:VCALENDAR
