BEGIN:VCALENDAR
VERSION:2.0
CALSCALE:GREGORIAN
PRODID:-//Diputació de Barcelona//DibaCMS//EN
BEGIN:VEVENT
UID:15234
DTSTAMP:20260424T121821
DTSTART:20220902T220000
DTEND:20220902T220000
SUMMARY:Festes d'estiu Can Campanyà 2022: Expectacle Variegats amb "Orgue de Gats"
LOCATION:
METHOD:PUBLISH
X-WR-CALNAME:comunicacio@castellbisbal.cat
X-WR-TIMEZONE:Europe/Madrid
DESCRIPTION:A les 22:00 h, a la urbanització Can Campanyà

URI:https://www.castellbisbal.cat/actualitat/agenda/festes-destiu-can-campanya-2022-expectacle-variegats-amb-orgue-de-gats.html
CLASS:PUBLIC
END:VEVENT
END:VCALENDAR
