BEGIN:VCALENDAR
VERSION:2.0
CALSCALE:GREGORIAN
PRODID:-//Diputació de Barcelona//DibaCMS//EN
BEGIN:VEVENT
UID:15236
DTSTAMP:20260424T172427
DTSTART:20220903T220000
DTEND:20220903T220000
SUMMARY:Festes d'estiu Can Campanyà 2022: Actuació amb el grup "Els hits de la teva vida"
LOCATION:
METHOD:PUBLISH
X-WR-CALNAME:comunicacio@castellbisbal.cat
X-WR-TIMEZONE:Europe/Madrid
DESCRIPTION:A les 22:00 h, a la urbanització Can Campanyà

URI:https://www.castellbisbal.cat/actualitat/agenda/festes-destiu-can-campanya-2022-actuacio-amb-el-grup-els-hits-de-la-teva-vida.html
CLASS:PUBLIC
END:VEVENT
END:VCALENDAR
