BEGIN:VCALENDAR
VERSION:2.0
CALSCALE:GREGORIAN
PRODID:-//Diputació de Barcelona//DibaCMS//EN
BEGIN:VEVENT
UID:15237
DTSTAMP:20260424T071130
DTSTART:20220904T120000
DTEND:20220904T120000
SUMMARY:Festes d'estiu Can Campanyà 2022: Festa de la escuma
LOCATION:
METHOD:PUBLISH
X-WR-CALNAME:comunicacio@castellbisbal.cat
X-WR-TIMEZONE:Europe/Madrid
DESCRIPTION:A les 12:00 h, a la Pista Esportiva, c/ Lluís Millet

URI:https://www.castellbisbal.cat/actualitat/agenda/festes-destiu-can-campanya-2022-festa-de-la-escuma.html
CLASS:PUBLIC
END:VEVENT
END:VCALENDAR
