BEGIN:VCALENDAR
VERSION:2.0
CALSCALE:GREGORIAN
PRODID:-//Diputació de Barcelona//DibaCMS//EN
BEGIN:VEVENT
UID:15238
DTSTAMP:20260425T030328
DTSTART:20220904T140000
DTEND:20220904T140000
SUMMARY:Festes d'estiu Can Campanyà 2022: Arrossada popular
LOCATION:
METHOD:PUBLISH
X-WR-CALNAME:comunicacio@castellbisbal.cat
X-WR-TIMEZONE:Europe/Madrid
DESCRIPTION:A les 14:00 h, a la urbanització Can Campanyà

URI:https://www.castellbisbal.cat/actualitat/agenda/festes-destiu-can-campanya-2022-arrossada-popular.html
CLASS:PUBLIC
END:VEVENT
END:VCALENDAR
