BEGIN:VCALENDAR
VERSION:2.0
CALSCALE:GREGORIAN
PRODID:-//Diputació de Barcelona//DibaCMS//EN
BEGIN:VEVENT
UID:15239
DTSTAMP:20260424T120147
DTSTART:20220904T170000
DTEND:20220904T170000
SUMMARY:Festes d'estiu Can Campanyà 2022: Bingo
LOCATION:
METHOD:PUBLISH
X-WR-CALNAME:comunicacio@castellbisbal.cat
X-WR-TIMEZONE:Europe/Madrid
DESCRIPTION:A les 17:00 h, a la urbanització Can Campanyà

URI:https://www.castellbisbal.cat/actualitat/agenda/festes-destiu-can-campanya-2022-bingo.html
CLASS:PUBLIC
END:VEVENT
END:VCALENDAR
