BEGIN:VCALENDAR
VERSION:2.0
CALSCALE:GREGORIAN
PRODID:-//Diputació de Barcelona//DibaCMS//EN
BEGIN:VEVENT
UID:15240
DTSTAMP:20260424T120319
DTSTART:20220917T130000
DTEND:20220917T130000
SUMMARY:Festa Major Costablanca 2022: Festa de la escuma
LOCATION:
METHOD:PUBLISH
X-WR-CALNAME:comunicacio@castellbisbal.cat
X-WR-TIMEZONE:Europe/Madrid
DESCRIPTION:De 13:00 a 14:00 h, a la urbanització Costablanca

URI:https://www.castellbisbal.cat/actualitat/agenda/festa-major-costablanca-2022-festa-de-la-escuma.html
CLASS:PUBLIC
END:VEVENT
END:VCALENDAR
