BEGIN:VCALENDAR
VERSION:2.0
CALSCALE:GREGORIAN
PRODID:-//Diputació de Barcelona//DibaCMS//EN
BEGIN:VEVENT
UID:15241
DTSTAMP:20260423T230748
DTSTART:20220917T210000
DTEND:20220917T210000
SUMMARY:Festa Major Costablanca 2022: Sopar de festa major amb música ambiental
LOCATION:
METHOD:PUBLISH
X-WR-CALNAME:comunicacio@castellbisbal.cat
X-WR-TIMEZONE:Europe/Madrid
DESCRIPTION:De 21:00 a 23:00 h, a la urbanització Costablanca

URI:https://www.castellbisbal.cat/actualitat/agenda/festa-major-costablanca-2022-sopar-de-festa-major-amb-musica-ambiental.html
CLASS:PUBLIC
END:VEVENT
END:VCALENDAR
