BEGIN:VCALENDAR
VERSION:2.0
CALSCALE:GREGORIAN
PRODID:-//Diputació de Barcelona//DibaCMS//EN
BEGIN:VEVENT
UID:15242
DTSTAMP:20260424T003535
DTSTART:20220917T230000
DTEND:20220917T230000
SUMMARY:Festa Major Costablanca 2022: Ball de Festa Major amb Trio Odisea
LOCATION:
METHOD:PUBLISH
X-WR-CALNAME:comunicacio@castellbisbal.cat
X-WR-TIMEZONE:Europe/Madrid
DESCRIPTION:De 23:00 a 01:00 h, a la urbanització Costablanca

URI:https://www.castellbisbal.cat/actualitat/agenda/festa-major-costablanca-2022-ball-de-festa-major-amb-trio-odisea.html
CLASS:PUBLIC
END:VEVENT
END:VCALENDAR
