BEGIN:VCALENDAR
VERSION:2.0
CALSCALE:GREGORIAN
PRODID:-//Diputació de Barcelona//DibaCMS//EN
BEGIN:VEVENT
UID:15251
DTSTAMP:20260425T021447
DTSTART:20220910T203000
DTEND:20220910T203000
SUMMARY:Lectures de textos i concert amb Set de Rumba
LOCATION:
METHOD:PUBLISH
X-WR-CALNAME:comunicacio@castellbisbal.cat
X-WR-TIMEZONE:Europe/Madrid
DESCRIPTION:A les 20:30 h, al Monument 1714

URI:https://www.castellbisbal.cat/actualitat/agenda/lectures-de-textos-i-concert-amb-set-de-rumba.html
CLASS:PUBLIC
END:VEVENT
END:VCALENDAR
