BEGIN:VCALENDAR
VERSION:2.0
CALSCALE:GREGORIAN
PRODID:-//Diputació de Barcelona//DibaCMS//EN
BEGIN:VEVENT
UID:15253
DTSTAMP:20260424T085211
DTSTART:20220911T100000
DTEND:20220911T100000
SUMMARY:Acte institucional de la Diada
LOCATION:
METHOD:PUBLISH
X-WR-CALNAME:comunicacio@castellbisbal.cat
X-WR-TIMEZONE:Europe/Madrid
DESCRIPTION:A les 10:00 h, al Espai Adjutori Segarra

URI:https://www.castellbisbal.cat/actualitat/agenda/acte-institucional-de-la-diada.html
CLASS:PUBLIC
END:VEVENT
END:VCALENDAR
