BEGIN:VCALENDAR
VERSION:2.0
CALSCALE:GREGORIAN
PRODID:-//Diputació de Barcelona//DibaCMS//EN
BEGIN:VEVENT
UID:15258
DTSTAMP:20260424T193607
DTSTART:20220929T180000
DTEND:20220929T180000
SUMMARY:Inauguració i presentació de l'Escola de Salut
LOCATION:Av. Pau Casals, 12 08755 Castellbisbal
METHOD:PUBLISH
X-WR-CALNAME:comunicacio@castellbisbal.cat
X-WR-TIMEZONE:Europe/Madrid
DESCRIPTION:ACTIVITAT AJORNADA

URI:https://www.castellbisbal.cat/actualitat/agenda/inauguracio-i-presentacio-de-lescola-de-salut.html
CLASS:PUBLIC
END:VEVENT
END:VCALENDAR
