BEGIN:VCALENDAR
VERSION:2.0
CALSCALE:GREGORIAN
PRODID:-//Diputació de Barcelona//DibaCMS//EN
BEGIN:VEVENT
UID:15260
DTSTAMP:20260423T175656
DTSTART:20221124T180000
DTEND:20221124T180000
SUMMARY:Prevenció dels problemes emocionals en nens i nenes
LOCATION:Av. Pau Casals, 12 08755 Castellbisbal
METHOD:PUBLISH
X-WR-CALNAME:comunicacio@castellbisbal.cat
X-WR-TIMEZONE:Europe/Madrid
DESCRIPTION:ANUL·LADA!

URI:https://www.castellbisbal.cat/actualitat/agenda/prevencio-dels-problemes-emocionals-en-nens-i-nenes.html
CLASS:PUBLIC
END:VEVENT
END:VCALENDAR
