BEGIN:VCALENDAR
VERSION:2.0
CALSCALE:GREGORIAN
PRODID:-//Diputació de Barcelona//DibaCMS//EN
BEGIN:VEVENT
UID:15261
DTSTAMP:20260424T202123
DTSTART:20221222T180000
DTEND:20221222T180000
SUMMARY:Les festes de Nadal: alimentació saludable per a xics i grans
LOCATION:
METHOD:PUBLISH
X-WR-CALNAME:comunicacio@castellbisbal.cat
X-WR-TIMEZONE:Europe/Madrid
DESCRIPTION:De 18.00 a 19.30 h, al CAP Doctor Joan Planas

URI:https://www.castellbisbal.cat/actualitat/agenda/les-festes-de-nadal-alimentacio-saludable-per-a-xics-i-grans.html
CLASS:PUBLIC
END:VEVENT
END:VCALENDAR
