BEGIN:VCALENDAR
VERSION:2.0
CALSCALE:GREGORIAN
PRODID:-//Diputació de Barcelona//DibaCMS//EN
BEGIN:VEVENT
UID:15266
DTSTAMP:20260423T213947
DTSTART:20221004T173000
DTEND:20221004T173000
SUMMARY:Exhibició dels grups de ball de la Gent Gran de l'Espai de la Plaça
LOCATION:
METHOD:PUBLISH
X-WR-CALNAME:comunicacio@castellbisbal.cat
X-WR-TIMEZONE:Europe/Madrid
DESCRIPTION:A les 17.30 h, a la Sala d'Actes de l'Ajuntament

URI:https://www.castellbisbal.cat/actualitat/agenda/exhibicio-dels-grups-de-ball-de-la-gent-gran-de-lespai-de-la-placa.html
CLASS:PUBLIC
END:VEVENT
END:VCALENDAR
