BEGIN:VCALENDAR
VERSION:2.0
CALSCALE:GREGORIAN
PRODID:-//Diputació de Barcelona//DibaCMS//EN
BEGIN:VEVENT
UID:15268
DTSTAMP:20260423T181507
DTSTART:20221005T180000
DTEND:20221005T180000
SUMMARY:Taller de pintura amb vi "Art d'or"
LOCATION:Av. de Pau Casals, 16 08755 Castellbisbal
METHOD:PUBLISH
X-WR-CALNAME:comunicacio@castellbisbal.cat
X-WR-TIMEZONE:Europe/Madrid
DESCRIPTION:A les 18.00 h, a la Biblioteca Josep Mateu i Miró

URI:https://www.castellbisbal.cat/actualitat/agenda/biblioteca/taller-de-pintura-amb-vi-art-dor.html
CLASS:PUBLIC
END:VEVENT
END:VCALENDAR
