BEGIN:VCALENDAR
VERSION:2.0
CALSCALE:GREGORIAN
PRODID:-//Diputació de Barcelona//DibaCMS//EN
BEGIN:VEVENT
UID:15271
DTSTAMP:20260423T165623
DTSTART:20221006T170000
DTEND:20221006T170000
SUMMARY:Taller: Treballs manuals oberts a tothom
LOCATION:Sant Joan núm. 1 08755 Castellbisbal
METHOD:PUBLISH
X-WR-CALNAME:comunicacio@castellbisbal.cat
X-WR-TIMEZONE:Europe/Madrid
DESCRIPTION:A les 17.00 h, a l'Espai de la Plaça

URI:https://www.castellbisbal.cat/actualitat/agenda/taller-treballs-manuals-oberts-a-tothom.html
CLASS:PUBLIC
END:VEVENT
END:VCALENDAR
