BEGIN:VCALENDAR
VERSION:2.0
CALSCALE:GREGORIAN
PRODID:-//Diputació de Barcelona//DibaCMS//EN
BEGIN:VEVENT
UID:15276
DTSTAMP:20260424T103539
DTSTART:20221003T173000
DTEND:20221223T193000
SUMMARY:Exposició: Treballs realitzats pels alumnes de dibuix i pintura
LOCATION:Sant Joan núm. 1 08755 Castellbisbal
METHOD:PUBLISH
X-WR-CALNAME:comunicacio@castellbisbal.cat
X-WR-TIMEZONE:Europe/Madrid
DESCRIPTION:Del 3 d'octubre al 23 de desembre, a l'Espai de la Plaça

URI:https://www.castellbisbal.cat/actualitat/agenda/exposicio-treballs-realitzats-pels-alumnes-de-dibuix-i-pintura.html
CLASS:PUBLIC
END:VEVENT
END:VCALENDAR
