BEGIN:VCALENDAR
VERSION:2.0
CALSCALE:GREGORIAN
PRODID:-//Diputació de Barcelona//DibaCMS//EN
BEGIN:VEVENT
UID:15284
DTSTAMP:20260423T133600
DTSTART:20220924T080000
DTEND:20220924T080000
SUMMARY:Excursió a Rupit amb la Gent Gran de l'Espai de la Plaça
LOCATION:
METHOD:PUBLISH
X-WR-CALNAME:comunicacio@castellbisbal.cat
X-WR-TIMEZONE:Europe/Madrid
DESCRIPTION:Sortida a les 08:00 h

URI:https://www.castellbisbal.cat/actualitat/agenda/excursio-a-rupit-amb-la-gent-gran-de-lespai-de-la-placa.html
CLASS:PUBLIC
END:VEVENT
END:VCALENDAR
