BEGIN:VCALENDAR
VERSION:2.0
CALSCALE:GREGORIAN
PRODID:-//Diputació de Barcelona//DibaCMS//EN
BEGIN:VEVENT
UID:15285
DTSTAMP:20260424T053835
DTSTART:20221013T080000
DTEND:20221013T080000
SUMMARY:Viatge a Galícia amb la Gent Gran d'Espai de la Plaça
LOCATION:
METHOD:PUBLISH
X-WR-CALNAME:comunicacio@castellbisbal.cat
X-WR-TIMEZONE:Europe/Madrid
DESCRIPTION:Del 13 al 18 d'octubre

URI:https://www.castellbisbal.cat/actualitat/agenda/viatge-a-galicia-amb-la-gent-gran-despai-de-la-placa.html
CLASS:PUBLIC
END:VEVENT
END:VCALENDAR
