BEGIN:VCALENDAR
VERSION:2.0
CALSCALE:GREGORIAN
PRODID:-//Diputació de Barcelona//DibaCMS//EN
BEGIN:VEVENT
UID:15288
DTSTAMP:20260423T174426
DTSTART:20220930T170000
DTEND:20220930T170000
SUMMARY:Traiem el màxim partit als productes de tardor
LOCATION:Avinguda de Pau Casals, 9 08755 Castellbisbal
METHOD:PUBLISH
X-WR-CALNAME:comunicacio@castellbisbal.cat
X-WR-TIMEZONE:Europe/Madrid
DESCRIPTION:De 17.00 a 19.30 h, a la Sala de Plens de l''Ajuntament

URI:https://www.castellbisbal.cat/actualitat/agenda/traiem-el-maxim-partit-als-productes-de-tardor.html
CLASS:PUBLIC
END:VEVENT
END:VCALENDAR
