BEGIN:VCALENDAR
VERSION:2.0
CALSCALE:GREGORIAN
PRODID:-//Diputació de Barcelona//DibaCMS//EN
BEGIN:VEVENT
UID:15297
DTSTAMP:20260423T231951
DTSTART:20221023T000000
DTEND:20221023T000000
SUMMARY:Jugatecambiental. El twister de l'aigua
LOCATION:Parc de l'Ermita 08755 Castellbisbal
METHOD:PUBLISH
X-WR-CALNAME:comunicacio@castellbisbal.cat
X-WR-TIMEZONE:Europe/Madrid
DESCRIPTION:De 12.00 a 13.00 h, al parc de l'Ermita

URI:https://www.castellbisbal.cat/actualitat/agenda/jugatecambiental-el-twister-de-laigua.html
CLASS:PUBLIC
END:VEVENT
END:VCALENDAR
