BEGIN:VCALENDAR
VERSION:2.0
CALSCALE:GREGORIAN
PRODID:-//Diputació de Barcelona//DibaCMS//EN
BEGIN:VEVENT
UID:15299
DTSTAMP:20260423T164835
DTSTART:20221106T120000
DTEND:20221106T120000
SUMMARY:Jugatecambiental. Per Nadal, reciclem
LOCATION:Parc de l'Ermita 08755 Castellbisbal
METHOD:PUBLISH
X-WR-CALNAME:comunicacio@castellbisbal.cat
X-WR-TIMEZONE:Europe/Madrid
DESCRIPTION:De 12.00 a 13.00 h, al parc de l'Ermita

URI:https://www.castellbisbal.cat/actualitat/agenda/15299-jugatecambiental-per-nadal-reciclem.html
CLASS:PUBLIC
END:VEVENT
END:VCALENDAR
