BEGIN:VCALENDAR
VERSION:2.0
CALSCALE:GREGORIAN
PRODID:-//Diputació de Barcelona//DibaCMS//EN
BEGIN:VEVENT
UID:15300
DTSTAMP:20260424T071907
DTSTART:20221113T120000
DTEND:20221113T120000
SUMMARY:Jugatecambiental. Uns amics ben animals
LOCATION:Parc de l'Ermita 08755 Castellbisbal
METHOD:PUBLISH
X-WR-CALNAME:comunicacio@castellbisbal.cat
X-WR-TIMEZONE:Europe/Madrid
DESCRIPTION:De 12.00 a 13.00 h, al parc de l'Ermita

URI:https://www.castellbisbal.cat/actualitat/agenda/jugatecambiental-uns-amics-ben-animals.html
CLASS:PUBLIC
END:VEVENT
END:VCALENDAR
