BEGIN:VCALENDAR
VERSION:2.0
CALSCALE:GREGORIAN
PRODID:-//Diputació de Barcelona//DibaCMS//EN
BEGIN:VEVENT
UID:15304
DTSTAMP:20260423T232011
DTSTART:20220917T110000
DTEND:20220917T110000
SUMMARY:Ixent. 1a mostra de creació cultural
LOCATION:Av. de Pau Casals, 16 08755 Castellbisbal
METHOD:PUBLISH
X-WR-CALNAME:comunicacio@castellbisbal.cat
X-WR-TIMEZONE:Europe/Madrid
DESCRIPTION:A partir de les 11.00 h, a diversos espais d'Els Costals

URI:https://www.castellbisbal.cat/actualitat/agenda/ixent-1a-mostra-de-creacio-cultural.html
CLASS:PUBLIC
END:VEVENT
END:VCALENDAR
