BEGIN:VCALENDAR
VERSION:2.0
CALSCALE:GREGORIAN
PRODID:-//Diputació de Barcelona//DibaCMS//EN
BEGIN:VEVENT
UID:15305
DTSTAMP:20260424T121446
DTSTART:20220916T193000
DTEND:20220916T193000
SUMMARY:ANUL·LADA! PROPERAMENT NOVA DATA. Caminada nocturna guiada
LOCATION:C. Major, 103 08755 Castellbisbal
METHOD:PUBLISH
X-WR-CALNAME:comunicacio@castellbisbal.cat
X-WR-TIMEZONE:Europe/Madrid
DESCRIPTION:Sortida a les 19.30 h de Can Margarit

URI:https://www.castellbisbal.cat/actualitat/agenda/anullada-properament-nova-data-caminada-nocturna-guiada.html
CLASS:PUBLIC
END:VEVENT
END:VCALENDAR
