BEGIN:VCALENDAR
VERSION:2.0
CALSCALE:GREGORIAN
PRODID:-//Diputació de Barcelona//DibaCMS//EN
BEGIN:VEVENT
UID:15306
DTSTAMP:20260423T085028
DTSTART:20220918T110000
DTEND:20220918T110000
SUMMARY:Bicifesta. Pedalada popular i tallers
LOCATION:Parc Folch i Torres 08755 Castellbisbal
METHOD:PUBLISH
X-WR-CALNAME:comunicacio@castellbisbal.cat
X-WR-TIMEZONE:Europe/Madrid
DESCRIPTION:Sortida a les 11.00 h del parc Folch i Torres

URI:https://www.castellbisbal.cat/actualitat/agenda/15306-bicifesta-pedalada-popular-i-tallers.html
CLASS:PUBLIC
END:VEVENT
END:VCALENDAR
