BEGIN:VCALENDAR
VERSION:2.0
CALSCALE:GREGORIAN
PRODID:-//Diputació de Barcelona//DibaCMS//EN
BEGIN:VEVENT
UID:15310
DTSTAMP:20260423T131648
DTSTART:20220920T180000
DTEND:20220920T180000
SUMMARY:Actualitza el teu CV!
LOCATION:Carrer Francesc Macià, 64 08755 Castellbisbal
METHOD:PUBLISH
X-WR-CALNAME:comunicacio@castellbisbal.cat
X-WR-TIMEZONE:Europe/Madrid
DESCRIPTION:De 18.00 a 19.00 h, al Punt d'Informació Juvenil

URI:https://www.castellbisbal.cat/actualitat/agenda/actualitza-el-teu-cv.html
CLASS:PUBLIC
END:VEVENT
END:VCALENDAR
